Workbook

Sheet Log
A1: Date | B1: Job | C1: Hours | D1: Cash tips | E1: Card tips | F1: Tip-out paid | G1: Tips kept | H1: Sales | I1: Reported to employer | J1: Notes
G2: =IF(COUNT(D2:F2)=0,"",SUM(D2,E2)-SUM(F2))
G3: =IF(COUNT(D3:F3)=0,"",SUM(D3,E3)-SUM(F3))
G4: =IF(COUNT(D4:F4)=0,"",SUM(D4,E4)-SUM(F4))
G5: =IF(COUNT(D5:F5)=0,"",SUM(D5,E5)-SUM(F5))
G6: =IF(COUNT(D6:F6)=0,"",SUM(D6,E6)-SUM(F6))
G7: =IF(COUNT(D7:F7)=0,"",SUM(D7,E7)-SUM(F7))
G8: =IF(COUNT(D8:F8)=0,"",SUM(D8,E8)-SUM(F8))
G9: =IF(COUNT(D9:F9)=0,"",SUM(D9,E9)-SUM(F9))
G10: =IF(COUNT(D10:F10)=0,"",SUM(D10,E10)-SUM(F10))
G11: =IF(COUNT(D11:F11)=0,"",SUM(D11,E11)-SUM(F11))
G12: =IF(COUNT(D12:F12)=0,"",SUM(D12,E12)-SUM(F12))
G13: =IF(COUNT(D13:F13)=0,"",SUM(D13,E13)-SUM(F13))
... G401: =IF(COUNT(D401:F401)=0,"",SUM(D401,E401)-SUM(F401))

Sheet Monthly
A1: Month | B1: From | C1: To | D1: Hours | E1: Cash tips | F1: Card tips | G1: Tip-out paid | H1: Tips kept | I1: Reported to employer | J1: Tips kept per hour
A2: January 2026 | B2: =DATE(2026,1,1) | C2: =EOMONTH(B2,0) | D2: =SUMIFS(Log!$C:$C,Log!$A:$A,">="&$B2,Log!$A:$A,"<="&$C2) | E2: =SUMIFS(Log!$D:$D,Log!$A:$A,">="&$B2,Log!$A:$A,"<="&$C2) | F2: =SUMIFS(Log!$E:$E,Log!$A:$A,">="&$B2,Log!$A:$A,"<="&$C2) | G2: =SUMIFS(Log!$F:$F,Log!$A:$A,">="&$B2,Log!$A:$A,"<="&$C2) | H2: =SUMIFS(Log!$G:$G,Log!$A:$A,">="&$B2,Log!$A:$A,"<="&$C2) | I2: =SUMIFS(Log!$I:$I,Log!$A:$A,">="&$B2,Log!$A:$A,"<="&$C2) | J2: =IF(D2=0,"",H2/D2)
A3: February 2026 | B3: =DATE(2026,2,1) | C3: =EOMONTH(B3,0) | D3: =SUMIFS(Log!$C:$C,Log!$A:$A,">="&$B3,Log!$A:$A,"<="&$C3) | E3: =SUMIFS(Log!$D:$D,Log!$A:$A,">="&$B3,Log!$A:$A,"<="&$C3) | F3: =SUMIFS(Log!$E:$E,Log!$A:$A,">="&$B3,Log!$A:$A,"<="&$C3) | G3: =SUMIFS(Log!$F:$F,Log!$A:$A,">="&$B3,Log!$A:$A,"<="&$C3) | H3: =SUMIFS(Log!$G:$G,Log!$A:$A,">="&$B3,Log!$A:$A,"<="&$C3) | I3: =SUMIFS(Log!$I:$I,Log!$A:$A,">="&$B3,Log!$A:$A,"<="&$C3) | J3: =IF(D3=0,"",H3/D3)
A4: March 2026 | B4: =DATE(2026,3,1) | C4: =EOMONTH(B4,0) | D4: =SUMIFS(Log!$C:$C,Log!$A:$A,">="&$B4,Log!$A:$A,"<="&$C4) | E4: =SUMIFS(Log!$D:$D,Log!$A:$A,">="&$B4,Log!$A:$A,"<="&$C4) | F4: =SUMIFS(Log!$E:$E,Log!$A:$A,">="&$B4,Log!$A:$A,"<="&$C4) | G4: =SUMIFS(Log!$F:$F,Log!$A:$A,">="&$B4,Log!$A:$A,"<="&$C4) | H4: =SUMIFS(Log!$G:$G,Log!$A:$A,">="&$B4,Log!$A:$A,"<="&$C4) | I4: =SUMIFS(Log!$I:$I,Log!$A:$A,">="&$B4,Log!$A:$A,"<="&$C4) | J4: =IF(D4=0,"",H4/D4)
A5: April 2026 | B5: =DATE(2026,4,1) | C5: =EOMONTH(B5,0) | D5: =SUMIFS(Log!$C:$C,Log!$A:$A,">="&$B5,Log!$A:$A,"<="&$C5) | E5: =SUMIFS(Log!$D:$D,Log!$A:$A,">="&$B5,Log!$A:$A,"<="&$C5) | F5: =SUMIFS(Log!$E:$E,Log!$A:$A,">="&$B5,Log!$A:$A,"<="&$C5) | G5: =SUMIFS(Log!$F:$F,Log!$A:$A,">="&$B5,Log!$A:$A,"<="&$C5) | H5: =SUMIFS(Log!$G:$G,Log!$A:$A,">="&$B5,Log!$A:$A,"<="&$C5) | I5: =SUMIFS(Log!$I:$I,Log!$A:$A,">="&$B5,Log!$A:$A,"<="&$C5) | J5: =IF(D5=0,"",H5/D5)
A6: May 2026 | B6: =DATE(2026,5,1) | C6: =EOMONTH(B6,0) | D6: =SUMIFS(Log!$C:$C,Log!$A:$A,">="&$B6,Log!$A:$A,"<="&$C6) | E6: =SUMIFS(Log!$D:$D,Log!$A:$A,">="&$B6,Log!$A:$A,"<="&$C6) | F6: =SUMIFS(Log!$E:$E,Log!$A:$A,">="&$B6,Log!$A:$A,"<="&$C6) | G6: =SUMIFS(Log!$F:$F,Log!$A:$A,">="&$B6,Log!$A:$A,"<="&$C6) | H6: =SUMIFS(Log!$G:$G,Log!$A:$A,">="&$B6,Log!$A:$A,"<="&$C6) | I6: =SUMIFS(Log!$I:$I,Log!$A:$A,">="&$B6,Log!$A:$A,"<="&$C6) | J6: =IF(D6=0,"",H6/D6)
A7: June 2026 | B7: =DATE(2026,6,1) | C7: =EOMONTH(B7,0) | D7: =SUMIFS(Log!$C:$C,Log!$A:$A,">="&$B7,Log!$A:$A,"<="&$C7) | E7: =SUMIFS(Log!$D:$D,Log!$A:$A,">="&$B7,Log!$A:$A,"<="&$C7) | F7: =SUMIFS(Log!$E:$E,Log!$A:$A,">="&$B7,Log!$A:$A,"<="&$C7) | G7: =SUMIFS(Log!$F:$F,Log!$A:$A,">="&$B7,Log!$A:$A,"<="&$C7) | H7: =SUMIFS(Log!$G:$G,Log!$A:$A,">="&$B7,Log!$A:$A,"<="&$C7) | I7: =SUMIFS(Log!$I:$I,Log!$A:$A,">="&$B7,Log!$A:$A,"<="&$C7) | J7: =IF(D7=0,"",H7/D7)
A8: July 2026 | B8: =DATE(2026,7,1) | C8: =EOMONTH(B8,0) | D8: =SUMIFS(Log!$C:$C,Log!$A:$A,">="&$B8,Log!$A:$A,"<="&$C8) | E8: =SUMIFS(Log!$D:$D,Log!$A:$A,">="&$B8,Log!$A:$A,"<="&$C8) | F8: =SUMIFS(Log!$E:$E,Log!$A:$A,">="&$B8,Log!$A:$A,"<="&$C8) | G8: =SUMIFS(Log!$F:$F,Log!$A:$A,">="&$B8,Log!$A:$A,"<="&$C8) | H8: =SUMIFS(Log!$G:$G,Log!$A:$A,">="&$B8,Log!$A:$A,"<="&$C8) | I8: =SUMIFS(Log!$I:$I,Log!$A:$A,">="&$B8,Log!$A:$A,"<="&$C8) | J8: =IF(D8=0,"",H8/D8)
A9: August 2026 | B9: =DATE(2026,8,1) | C9: =EOMONTH(B9,0) | D9: =SUMIFS(Log!$C:$C,Log!$A:$A,">="&$B9,Log!$A:$A,"<="&$C9) | E9: =SUMIFS(Log!$D:$D,Log!$A:$A,">="&$B9,Log!$A:$A,"<="&$C9) | F9: =SUMIFS(Log!$E:$E,Log!$A:$A,">="&$B9,Log!$A:$A,"<="&$C9) | G9: =SUMIFS(Log!$F:$F,Log!$A:$A,">="&$B9,Log!$A:$A,"<="&$C9) | H9: =SUMIFS(Log!$G:$G,Log!$A:$A,">="&$B9,Log!$A:$A,"<="&$C9) | I9: =SUMIFS(Log!$I:$I,Log!$A:$A,">="&$B9,Log!$A:$A,"<="&$C9) | J9: =IF(D9=0,"",H9/D9)
A10: September 2026 | B10: =DATE(2026,9,1) | C10: =EOMONTH(B10,0) | D10: =SUMIFS(Log!$C:$C,Log!$A:$A,">="&$B10,Log!$A:$A,"<="&$C10) | E10: =SUMIFS(Log!$D:$D,Log!$A:$A,">="&$B10,Log!$A:$A,"<="&$C10) | F10: =SUMIFS(Log!$E:$E,Log!$A:$A,">="&$B10,Log!$A:$A,"<="&$C10) | G10: =SUMIFS(Log!$F:$F,Log!$A:$A,">="&$B10,Log!$A:$A,"<="&$C10) | H10: =SUMIFS(Log!$G:$G,Log!$A:$A,">="&$B10,Log!$A:$A,"<="&$C10) | I10: =SUMIFS(Log!$I:$I,Log!$A:$A,">="&$B10,Log!$A:$A,"<="&$C10) | J10: =IF(D10=0,"",H10/D10)
A11: October 2026 | B11: =DATE(2026,10,1) | C11: =EOMONTH(B11,0) | D11: =SUMIFS(Log!$C:$C,Log!$A:$A,">="&$B11,Log!$A:$A,"<="&$C11) | E11: =SUMIFS(Log!$D:$D,Log!$A:$A,">="&$B11,Log!$A:$A,"<="&$C11) | F11: =SUMIFS(Log!$E:$E,Log!$A:$A,">="&$B11,Log!$A:$A,"<="&$C11) | G11: =SUMIFS(Log!$F:$F,Log!$A:$A,">="&$B11,Log!$A:$A,"<="&$C11) | H11: =SUMIFS(Log!$G:$G,Log!$A:$A,">="&$B11,Log!$A:$A,"<="&$C11) | I11: =SUMIFS(Log!$I:$I,Log!$A:$A,">="&$B11,Log!$A:$A,"<="&$C11) | J11: =IF(D11=0,"",H11/D11)
A12: November 2026 | B12: =DATE(2026,11,1) | C12: =EOMONTH(B12,0) | D12: =SUMIFS(Log!$C:$C,Log!$A:$A,">="&$B12,Log!$A:$A,"<="&$C12) | E12: =SUMIFS(Log!$D:$D,Log!$A:$A,">="&$B12,Log!$A:$A,"<="&$C12) | F12: =SUMIFS(Log!$E:$E,Log!$A:$A,">="&$B12,Log!$A:$A,"<="&$C12) | G12: =SUMIFS(Log!$F:$F,Log!$A:$A,">="&$B12,Log!$A:$A,"<="&$C12) | H12: =SUMIFS(Log!$G:$G,Log!$A:$A,">="&$B12,Log!$A:$A,"<="&$C12) | I12: =SUMIFS(Log!$I:$I,Log!$A:$A,">="&$B12,Log!$A:$A,"<="&$C12) | J12: =IF(D12=0,"",H12/D12)
A13: December 2026 | B13: =DATE(2026,12,1) | C13: =EOMONTH(B13,0) | D13: =SUMIFS(Log!$C:$C,Log!$A:$A,">="&$B13,Log!$A:$A,"<="&$C13) | E13: =SUMIFS(Log!$D:$D,Log!$A:$A,">="&$B13,Log!$A:$A,"<="&$C13) | F13: =SUMIFS(Log!$E:$E,Log!$A:$A,">="&$B13,Log!$A:$A,"<="&$C13) | G13: =SUMIFS(Log!$F:$F,Log!$A:$A,">="&$B13,Log!$A:$A,"<="&$C13) | H13: =SUMIFS(Log!$G:$G,Log!$A:$A,">="&$B13,Log!$A:$A,"<="&$C13) | I13: =SUMIFS(Log!$I:$I,Log!$A:$A,">="&$B13,Log!$A:$A,"<="&$C13) | J13: =IF(D13=0,"",H13/D13)
A14: Total 2026 | D14: =SUM(D2:D13) | E14: =SUM(E2:E13) | F14: =SUM(F2:F13) | G14: =SUM(G2:G13) | H14: =SUM(H2:H13) | I14: =SUM(I2:I13) | J14: =IF(D14=0,"",H14/D14)

Sheet How to use
A1: How to use this tip log
A3: 1 | B3: On the Log sheet, add one row per shift: date, job, hours, cash tips, card tips and any tip-out you paid.
A4: 2 | B4: Tips kept fills in by itself (cash + card - tip-out). Leave that column alone.
A5: 3 | B5: Put the amount you reported to your employer in the Reported to employer column.
A6: 4 | B6: The Monthly sheet adds up each month of 2026 for you. For another year, change the dates in the From column.
A7: 5 | B7: Report tips to your employer by the 10th of the next month if you get $20 or more in a month.
B9: Free template from cashout.tips. Cashout tracks this for you on iPhone and Android.
B10: https://cashout.tips
